BEGIN:VCALENDAR
VERSION:2.0
PRODID:-//ChamberMaster//Event Calendar 2.0//EN
METHOD:PUBLISH
X-PUBLISHED-TTL:P3D
REFRESH-INTERVAL:P3D
CALSCALE:GREGORIAN
BEGIN:VEVENT
DTSTART:20190824T210000Z
DTEND:20190825T023000Z
X-MICROSOFT-CDO-ALLDAYEVENT:FALSE
SUMMARY:Race Sport Lighting 3rd Annual Show
DESCRIPTION:Looking for a big turn out of Hot rods\, JEEP's\, Trucks\, Show Cars\, Corvette's\, Motorcycles\, Golf Carts\, ATV's and much more....Come celebrate our 3rd annual car show at our headquarters location in Ringwood IL. \n\n\n\n"GLOW OFF" Competition 8:30-9:30 PM
X-ALT-DESC;FMTTYPE=text/html:<span style="color:rgb(29\, 33\, 41)\; font-family:helvetica\,arial\,sans-serif\; font-size:14px">Looking for a big turn out of Hot rods\, JEEP&#39\;s\, Trucks\, Show Cars\, Corvette&#39\;s\, Motorcycles\, Golf Carts\, ATV&#39\;s and much more....Come celebrate our 3rd annual car show at our headquarters location in Ringwood IL.&nbsp\;<br />\n<br />\n&quot\;GLOW OFF&quot\; Competition 8:30-9:30 PM</span><br />\n<br />\n&nbsp\;
LOCATION:5402 Austin Ct\, Ringwood IL 60072 Just off Route 31
UID:e.2066.2975
SEQUENCE:3
DTSTAMP:20260425T023518Z
URL:https://dev.chainolakeschamber.com/events/details/race-sport-lighting-3rd-annual-show-2975
END:VEVENT

END:VCALENDAR
