BEGIN:VCALENDAR
VERSION:2.0
PRODID:-//ChamberMaster//Event Calendar 2.0//EN
METHOD:PUBLISH
X-PUBLISHED-TTL:P3D
REFRESH-INTERVAL:P3D
CALSCALE:GREGORIAN
BEGIN:VEVENT
DTSTART:20200507T130000Z
DTEND:20200507T220000Z
X-MICROSOFT-CDO-ALLDAYEVENT:FALSE
SUMMARY:QuickBooks Desktop Cloud
DESCRIPTION:This workshop will empower you to take control of the financial accounting for your business\, all with the ease and convenience of an online platform. Learn how to import data\, set up your company\, run payroll\, send invoices and reconcile accounts. Discover best practices when using QuickBooks Online and learn how to navigate its features. We will also review reporting capabilities and methods\, sales/revenue\, expense/purchase and other transactions. Materials are included in the course fee. Prerequisite: Ability to use Microsoft Windows products.
X-ALT-DESC;FMTTYPE=text/html:This workshop will empower you to take control of the financial accounting for your business\, all with the ease and convenience of an online platform. Learn how to import data\, set up your company\, run payroll\, send invoices and reconcile accounts. Discover best practices when using QuickBooks Online and learn how to navigate its features. We will also review reporting capabilities and methods\, sales/revenue\, expense/purchase and other transactions. Materials are included in the course fee. Prerequisite: Ability to use Microsoft Windows products.
LOCATION:College of Lake County Grayslake Campus 19351 W Washington St. Grayslake\, IL 60030
UID:e.2066.3168
SEQUENCE:3
DTSTAMP:20260424T093305Z
URL:https://dev.chainolakeschamber.com/events/details/quickbooks-desktop-cloud-3168
END:VEVENT

END:VCALENDAR
