BEGIN:VCALENDAR
VERSION:2.0
PRODID:-//ChamberMaster//Event Calendar 2.0//EN
METHOD:PUBLISH
X-PUBLISHED-TTL:P3D
REFRESH-INTERVAL:P3D
CALSCALE:GREGORIAN
BEGIN:VEVENT
DTSTART:20210322T140000Z
DTEND:20210322T160000Z
X-MICROSOFT-CDO-ALLDAYEVENT:FALSE
SUMMARY:Prospecting & Lead Generation
DESCRIPTION:Prospecting and lead generation is the method of making links which may lead to a sale or other promising result. The leads may come from various sources or undertakings\, for example\, via the Internet\, through personal referrals\, through telephone calls either by telemarketers\, through advertisements\, events\, and purchase of lists of potential clients. These and other events can become more easily managed with this great workshop. With this workshop\, you will begin to see how important it is to develop a core set of sales skills. By managing and looking at the way people interact and seeing things in a new light\, you will improve on almost every aspect of your sales strategy.
X-ALT-DESC;FMTTYPE=text/html:Prospecting and lead generation is the method of making links which may lead to a sale or other promising result. The leads may come from various sources or undertakings\, for example\, via the Internet\, through personal referrals\, through telephone calls either by telemarketers\, through advertisements\, events\, and purchase of lists of potential clients. These and other events can become more easily managed with this great workshop. With this workshop\, you will begin to see how important it is to develop a core set of sales skills. By managing and looking at the way people interact and seeing things in a new light\, you will improve on almost every aspect of your sales strategy.
LOCATION:Live Zoom
UID:e.2066.3875
SEQUENCE:3
DTSTAMP:20260423T174159Z
URL:https://dev.chainolakeschamber.com/events/details/prospecting-lead-generation-3875
END:VEVENT

END:VCALENDAR
