BEGIN:VCALENDAR
VERSION:2.0
PRODID:-//ChamberMaster//Event Calendar 2.0//EN
METHOD:PUBLISH
X-PUBLISHED-TTL:P3D
REFRESH-INTERVAL:P3D
CALSCALE:GREGORIAN
BEGIN:VEVENT
DTSTART:20181007T180000Z
DTEND:20181007T220000Z
X-MICROSOFT-CDO-ALLDAYEVENT:FALSE
SUMMARY:Promote Fox Lake Fundraiser
DESCRIPTION:Promote Fox Lake has done all the beautiful planting around town. This event is the main sourse of funding for the year.\n\n\n\nMichael Lescher at the piano\, bucket raffles and drawing for our big raffle of\n\na 50" Smart TV from Biglow Insurance\, Towable Tube from Chain O' Lakes Marina\, and\n\nEcho Alexa smart speaker from Dam\, Snell & Taveirne.
X-ALT-DESC;FMTTYPE=text/html:Promote Fox Lake has done all the beautiful planting around town. This event is the main sourse of funding for the year.<br />\n<br />\n<span style="font-family:arial\,sans-serif\;"><span style="font-size:10.0pt\;">Michael Lescher at the piano\, bucket raffles and drawing for our big raffle of<br />\na 50&rdquo\; Smart TV from Biglow Insurance\, Towable Tube from Chain O&rsquo\; Lakes Marina\, and<br />\nEcho Alexa smart speaker from Dam\, Snell &amp\; Taveirne.</span></span>
LOCATION:Lynn Catherine's Tavern & Deli 32 E. Grand Av Fox Lake IL
UID:e.2066.1209
SEQUENCE:3
DTSTAMP:20260425T164951Z
URL:https://dev.chainolakeschamber.com/events/details/promote-fox-lake-fundraiser-1209
END:VEVENT

END:VCALENDAR
