BEGIN:VCALENDAR
VERSION:2.0
PRODID:-//ChamberMaster//Event Calendar 2.0//EN
METHOD:PUBLISH
X-PUBLISHED-TTL:P3D
REFRESH-INTERVAL:P3D
CALSCALE:GREGORIAN
BEGIN:VEVENT
DTSTART:20230410T220000Z
DTEND:20230411T000000Z
X-MICROSOFT-CDO-ALLDAYEVENT:FALSE
SUMMARY:Prestige Detailing Grand Opening / Ribbon Cutting / Mixer!
DESCRIPTION:Help us celebrate the Grand Opening of Prestige Detailing with a Ribbon Cutting and Mixer!
X-ALT-DESC;FMTTYPE=text/html:Help us celebrate the Grand Opening of Prestige Detailing with a Ribbon Cutting and Mixer!
LOCATION:Prestige Detailing 2509 Highview Unit B Spring Grove IL 60081
UID:e.2066.5070
SEQUENCE:3
DTSTAMP:20260419T205500Z
URL:https://dev.chainolakeschamber.com/events/details/prestige-detailing-grand-opening-ribbon-cutting-mixer-5070
END:VEVENT

END:VCALENDAR
