BEGIN:VCALENDAR
VERSION:2.0
PRODID:-//ChamberMaster//Event Calendar 2.0//EN
METHOD:PUBLISH
X-PUBLISHED-TTL:P3D
REFRESH-INTERVAL:P3D
CALSCALE:GREGORIAN
BEGIN:VEVENT
DTSTART:20221001T140000Z
DTEND:20221001T160000Z
X-MICROSOFT-CDO-ALLDAYEVENT:FALSE
SUMMARY:Prescription Drug Drop Off
DESCRIPTION:Join Representative Weber and the Fox Lake Police Department for this FREE prescription drug drop off event. No needles\, illegal drugs or liquids.
X-ALT-DESC;FMTTYPE=text/html:Join Representative Weber and the Fox Lake Police Department for this FREE prescription drug drop off event. No needles\, illegal drugs or liquids.
LOCATION:Fox Lake Police Department 301 Illinois Route 59 Fox Lake\, IL
UID:e.2066.4622
SEQUENCE:3
DTSTAMP:20260422T105536Z
URL:https://dev.chainolakeschamber.com/events/details/prescription-drug-drop-off-4622
END:VEVENT

END:VCALENDAR
