BEGIN:VCALENDAR
VERSION:2.0
PRODID:-//ChamberMaster//Event Calendar 2.0//EN
METHOD:PUBLISH
X-PUBLISHED-TTL:P3D
REFRESH-INTERVAL:P3D
CALSCALE:GREGORIAN
BEGIN:VEVENT
DTSTART:20210122T000000Z
DTEND:20210122T010000Z
X-MICROSOFT-CDO-ALLDAYEVENT:FALSE
SUMMARY:PPP Funding Webinar for Businesses & Nonprofits
DESCRIPTION:Congressman Schneider is hosing a webinar on the new PPP and EIDL funding opportunities for small businesses and nonprofits. Thank you for your help in spreading the word about this program.  \n\n\n\nPPP Funding Webinar for Businesses and Nonprofits\n\nJoin Congressman Schneider for a webinar to learn about the new round of Paycheck Protection Program (PPP) funds available through the new Covid economic relief law. Representatives from the US Small Business Administration (SBA) will lead a presentation on the new round of funding and help answer any questions you may have.
X-ALT-DESC;FMTTYPE=text/html:Congressman Schneider is hosing a webinar on the new PPP and EIDL funding opportunities for small businesses and nonprofits. Thank you for your help in spreading the word about this program. &nbsp\;<br />\n<br />\n<strong>PPP Funding Webinar for Businesses and Nonprofits</strong><br />\n<em>Join Congressman Schneider for a webinar to learn about the new round of Paycheck Protection Program (PPP) funds available through the new Covid economic relief law. Representatives from the US Small Business Administration (SBA) will lead a presentation on the new round of funding and help answer any questions you may have.</em><br />\n<br />\n&nbsp\;
LOCATION:
UID:e.2066.3429
SEQUENCE:3
DTSTAMP:20260423T224019Z
URL:https://dev.chainolakeschamber.com/events/details/ppp-funding-webinar-for-businesses-nonprofits-3429
END:VEVENT

END:VCALENDAR
