BEGIN:VCALENDAR
VERSION:2.0
PRODID:-//ChamberMaster//Event Calendar 2.0//EN
METHOD:PUBLISH
X-PUBLISHED-TTL:P3D
REFRESH-INTERVAL:P3D
CALSCALE:GREGORIAN
BEGIN:VEVENT
DTSTART:20230829T133000Z
DTEND:20230829T173000Z
X-MICROSOFT-CDO-ALLDAYEVENT:FALSE
SUMMARY:PowerPoint Basics
DESCRIPTION:PowerPoint allows you to create and show slides to support a presentation. You can combine text\, graphics and multi-media content to create professional presentations. The purpose of PowerPoint is to act as a visual aid as a presenter goes along presenting their option\, ideas\, sales pitch\, etc. Workshop will be taught using Microsoft PowerPoint 365 Desktop\, but is relevant to prior versions.
X-ALT-DESC;FMTTYPE=text/html:PowerPoint allows you to create and show slides to support a presentation. You can combine text\, graphics and multi-media content to create professional presentations. The purpose of PowerPoint is to act as a visual aid as a presenter goes along presenting their option\, ideas\, sales pitch\, etc. Workshop will be taught using Microsoft PowerPoint 365 Desktop\, but is relevant to prior versions.
LOCATION:Live Zoom
UID:e.2066.5343
SEQUENCE:3
DTSTAMP:20260419T121213Z
URL:https://dev.chainolakeschamber.com/events/details/powerpoint-basics-08-29-2023-5343
END:VEVENT

END:VCALENDAR
