BEGIN:VCALENDAR
VERSION:2.0
PRODID:-//ChamberMaster//Event Calendar 2.0//EN
METHOD:PUBLISH
X-PUBLISHED-TTL:P3D
REFRESH-INTERVAL:P3D
CALSCALE:GREGORIAN
BEGIN:VEVENT
DTSTART:20220330T133000Z
DTEND:20220330T173000Z
X-MICROSOFT-CDO-ALLDAYEVENT:FALSE
SUMMARY:PowerPoint Advanced
DESCRIPTION:PowerPoint provides you with a variety of tools that can help you deliver content in nearly any situation\, while saving time and effort. By taking advantage of these tools\, you will be creating presentations that not only stand out from the crowd\, but also don't consume all of your available time.
X-ALT-DESC;FMTTYPE=text/html:PowerPoint provides you with a variety of tools that can help you deliver content in nearly any situation\, while saving time and effort. By taking advantage of these tools\, you will be creating presentations that not only stand out from the crowd\, but also don&#39\;t consume all of your available time.
LOCATION:Live Zoom
UID:e.2066.4207
SEQUENCE:3
DTSTAMP:20260422T223539Z
URL:https://dev.chainolakeschamber.com/events/details/powerpoint-advanced-03-30-2022-4207
END:VEVENT

END:VCALENDAR
