BEGIN:VCALENDAR
VERSION:2.0
PRODID:-//ChamberMaster//Event Calendar 2.0//EN
METHOD:PUBLISH
X-PUBLISHED-TTL:P3D
REFRESH-INTERVAL:P3D
CALSCALE:GREGORIAN
BEGIN:VEVENT
DTSTART:20210426T140000Z
DTEND:20210426T151500Z
X-MICROSOFT-CDO-ALLDAYEVENT:FALSE
SUMMARY:Powerful Digital Platforms
DESCRIPTION:Explore some of the new innovative and powerful digital platforms available to Lake County business owners. We will dive into the power of BizHub powered by Startup Space a digital online community for peer to peer support\, resources and more\, as well as learn how TAD (Training\, Assessments and Development) can provide your business with the training and guidance you need.
X-ALT-DESC;FMTTYPE=text/html:Explore some of the new innovative and powerful digital platforms available to Lake County business owners. We will dive into the power of BizHub powered by Startup Space a digital online community for peer to peer support\, resources and more\, as well as learn how TAD (Training\, Assessments and Development) can provide your business with the training and guidance you need.
LOCATION:Live Zoom
UID:e.2066.3943
SEQUENCE:3
DTSTAMP:20260423T155818Z
URL:https://dev.chainolakeschamber.com/events/details/powerful-digital-platforms-3943
END:VEVENT

END:VCALENDAR
