BEGIN:VCALENDAR
VERSION:2.0
PRODID:-//ChamberMaster//Event Calendar 2.0//EN
METHOD:PUBLISH
X-PUBLISHED-TTL:P3D
REFRESH-INTERVAL:P3D
CALSCALE:GREGORIAN
BEGIN:VEVENT
DTSTART:20191010T223000Z
DTEND:20191011T013000Z
X-MICROSOFT-CDO-ALLDAYEVENT:FALSE
SUMMARY:Pours with a Purpose
DESCRIPTION:
X-ALT-DESC;FMTTYPE=text/html:
LOCATION:Boulder Ridge Country Club 350 Boulder Dr Lake In The Hills Il
UID:e.2066.3130
SEQUENCE:3
DTSTAMP:20260424T220329Z
URL:https://dev.chainolakeschamber.com/events/details/pours-with-a-purpose-3130
END:VEVENT

END:VCALENDAR
