BEGIN:VCALENDAR
VERSION:2.0
PRODID:-//ChamberMaster//Event Calendar 2.0//EN
METHOD:PUBLISH
X-PUBLISHED-TTL:P3D
REFRESH-INTERVAL:P3D
CALSCALE:GREGORIAN
BEGIN:VEVENT
DTSTART:20221203T000000Z
DTEND:20221203T030000Z
X-MICROSOFT-CDO-ALLDAYEVENT:FALSE
SUMMARY:POSTPONED - Chamber Jolly Holiday Party with Comedy Show!
DESCRIPTION:This event has been postponed to a future date TBD.\n\n\n\nYou are cordially invited to the Chain O'Lakes Area Chamber of Commerce's Jolly Holiday Party with comedy show!\n\n\n\nBuffet will cold and hot mouthwatering hors de'oeuvres\, each guest will receive one drink ticket\, and the dessert table will include six delectable options!\n\n\n\nSponsorship are also available during registration. Or\, contact Therese at the Chamber office to donate a raffle basket or gift card - it's a great way to advertise your business!\n\n\n\nRSVP by November 21\, 2022
X-ALT-DESC;FMTTYPE=text/html:This event has been postponed to a future date TBD.<br />\n<br />\nYou are cordially invited to the Chain O&#39\;Lakes Area Chamber of Commerce&#39\;s Jolly Holiday Party with comedy show!<br />\n<br />\nBuffet will cold and hot mouthwatering hors de&#39\;oeuvres\, each guest<font color="#5f6368"><b>&nbsp\;</b>will receive one drink ticket\, and the d</font>essert table will include six delectable options!<br />\n<br />\nSponsorship are also available during registration. Or\, contact Therese at the Chamber office to donate a raffle basket or gift card - it&#39\;s a great way to advertise your business!<br />\n<br />\nRSVP by November 21\, 2022
LOCATION:Maravela's Banquets & Catering 4 Washington Street Ingelside IL 60041
UID:e.2066.4582
SEQUENCE:3
DTSTAMP:20260420T021747Z
URL:https://dev.chainolakeschamber.com/events/details/postponed-chamber-jolly-holiday-party-with-comedy-show-4582
END:VEVENT

END:VCALENDAR
