BEGIN:VCALENDAR
VERSION:2.0
PRODID:-//ChamberMaster//Event Calendar 2.0//EN
METHOD:PUBLISH
X-PUBLISHED-TTL:P3D
REFRESH-INTERVAL:P3D
CALSCALE:GREGORIAN
BEGIN:VEVENT
DTSTART:20221106T160000Z
DTEND:20221106T190000Z
X-MICROSOFT-CDO-ALLDAYEVENT:FALSE
SUMMARY:Pop Up Shops at Let's Make Memories Venue
DESCRIPTION:'Tis the season for holiday pop up shops!\n\n\n\nStop by Let's Make Memories for a jump start on your holiday shopping with local businesses creating pop-up shops!
X-ALT-DESC;FMTTYPE=text/html:&#39\;Tis the season for holiday pop up shops!<br />\n<br />\nStop by Let&#39\;s Make Memories for a jump start on your holiday shopping with local businesses creating pop-up shops!&nbsp\;&nbsp\;&nbsp\;&nbsp\;
LOCATION:Let's Make Memories Venue 145 Sayton Road Fox Lake IL
UID:e.2066.4644
SEQUENCE:3
DTSTAMP:20260422T091205Z
URL:https://dev.chainolakeschamber.com/events/details/pop-up-shops-at-let-s-make-memories-venue-4644
END:VEVENT

END:VCALENDAR
