BEGIN:VCALENDAR
VERSION:2.0
PRODID:-//ChamberMaster//Event Calendar 2.0//EN
METHOD:PUBLISH
X-PUBLISHED-TTL:P3D
REFRESH-INTERVAL:P3D
CALSCALE:GREGORIAN
BEGIN:VEVENT
DTSTART:20190816T220000Z
DTEND:20190817T010000Z
X-MICROSOFT-CDO-ALLDAYEVENT:FALSE
SUMMARY:Place to Gather Back to School FEST
DESCRIPTION:Come celebrate the beginning of the new school year with music by the Georgia Rae Family Band\, food trucks\, balloon animals\, face painting\, and more!\n\n\n\n\n\n\n\nThis family friendly event is a fundraiser for the new community playground and walking paths at Place to Gather!\n\n\n\nFood Trucks & Vendors:\n\nMy Funnel\n\nFat Tomato Inc.\n\nMario's Cart\n\nThe Cake Lady of Spring Grove IL LLC
X-ALT-DESC;FMTTYPE=text/html:<span>Come celebrate the beginning of the new school year with music by the Georgia Rae Family Band\, food trucks\, balloon animals\, face painting\, and more!</span><br />\n<br />\n<br />\n<br />\n<span>This family friendly event is a fundraiser for the new community playground and walking paths at Place to Gather!<br />\n<br />\nFood Trucks &amp\; Vendors:<br />\n<u><a href="https://www.facebook.com/MyFunnelTruck/" target="_blank">My Funnel</a><br />\n<a href="https://www.facebook.com/FatTomatoInc/" target="_blank">Fat Tomato Inc.</a><br />\n<a href="https://www.facebook.com/Marios-Cart-1438738826342531/" target="_blank">Mario&#39\;s Cart</a><br />\n<a href="https://www.facebook.com/thecakeladyofSG/" target="_blank">The Cake Lady of Spring Grove IL LLC</a></u></span>
LOCATION:Corner of Siedchlag Rd and Rt 173 1154 IL-173\, Spring Grove\, IL
UID:e.2066.2989
SEQUENCE:3
DTSTAMP:20260425T010645Z
URL:https://dev.chainolakeschamber.com/events/details/place-to-gather-back-to-school-fest-2989
END:VEVENT

END:VCALENDAR
