BEGIN:VCALENDAR
VERSION:2.0
PRODID:-//ChamberMaster//Event Calendar 2.0//EN
METHOD:PUBLISH
X-PUBLISHED-TTL:P3D
REFRESH-INTERVAL:P3D
CALSCALE:GREGORIAN
BEGIN:VEVENT
DTSTART:20230511T200000Z
DTEND:20230511T230000Z
X-MICROSOFT-CDO-ALLDAYEVENT:FALSE
SUMMARY:Pizza Hut Grand Opening / Ribbon Cutting / Mixer
DESCRIPTION:Fox Lake\, your NEW Pizza Hut is NOW OPEN! Please join us for Grand Opening Ribbon Cutting Celebration! The Ribbon Cutting will take place promptly at 3pm on Thursday\, May 11th. Stick around and play the Pizza Hut Prize Drop for a 1 in 6 chance to win Free Pizza for a Year!* Plus\, everyone in attendance will receive a free Personal Pan Pizza with the donation of a new or gently used children's book. Help us fill our Little Free Library and support childhood literacy within our community!\n\n*while supplies last
X-ALT-DESC;FMTTYPE=text/html:<span style="color: rgb(5\, 5\, 5)\; font-family: &quot\;Segoe UI Historic&quot\;\, &quot\;Segoe UI&quot\;\, Helvetica\, Arial\, sans-serif\; font-size: 15px\;">Fox Lake\, your NEW Pizza Hut is NOW OPEN! Please join us for Grand Opening Ribbon Cutting Celebration! The Ribbon Cutting will take place promptly at 3pm on Thursday\, May 11th. Stick around and play the Pizza Hut Prize Drop for a 1 in 6 chance to win Free Pizza for a Year!* Plus\, everyone in attendance will receive a free Personal Pan Pizza with the donation of a new or gently used children&#39\;s book. Help us fill our Little Free Library and support childhood literacy within our community!</span><br style="color: rgb(5\, 5\, 5)\; font-family: &quot\;Segoe UI Historic&quot\;\, &quot\;Segoe UI&quot\;\, Helvetica\, Arial\, sans-serif\; font-size: 15px\;" />\n<span style="color: rgb(5\, 5\, 5)\; font-family: &quot\;Segoe UI Historic&quot\;\, &quot\;Segoe UI&quot\;\, Helvetica\, Arial\, sans-serif\; font-size: 15px\;">*while supplies last</span>
LOCATION:Pizza Hut 1390 S. Route 12 Fox Lake\, IL 60020
UID:e.2066.5098
SEQUENCE:3
DTSTAMP:20260419T171723Z
URL:https://dev.chainolakeschamber.com/events/details/pizza-hut-grand-opening-ribbon-cutting-mixer-5098
END:VEVENT

END:VCALENDAR
