BEGIN:VCALENDAR
VERSION:2.0
PRODID:-//ChamberMaster//Event Calendar 2.0//EN
METHOD:PUBLISH
X-PUBLISHED-TTL:P3D
REFRESH-INTERVAL:P3D
CALSCALE:GREGORIAN
BEGIN:VEVENT
DTSTART:20230308T230000Z
DTEND:20230309T010000Z
X-MICROSOFT-CDO-ALLDAYEVENT:FALSE
SUMMARY:Pixie Dawgs / Miss Bella's Sweets and Eats Grand Opening / Ribbon Cutting / Mixer
DESCRIPTION:Join to congratulate Kim on the Grand Opening of her new store\, Pixie Dawgs / Miss Bella's Sweets and Eats\, in Hebron!\n\nRibbon Cutting will be at 5:00 pm with Mixer to immediately follow with food\, treats and drinks!
X-ALT-DESC;FMTTYPE=text/html:Join to congratulate Kim on the Grand Opening of her new store\,&nbsp\;Pixie Dawgs / Miss Bella&#39\;s Sweets and Eats\, in Hebron!<br />\nRibbon Cutting will be at 5:00 pm with Mixer to immediately follow with food\, treats and drinks!
LOCATION:Miss Bella's Sweets and Eats 10008 Main Street Hebron IL
UID:e.2066.4998
SEQUENCE:3
DTSTAMP:20260419T203732Z
URL:https://dev.chainolakeschamber.com/events/details/pixie-dawgs-miss-bella-s-sweets-and-eats-grand-opening-ribbon-cutting-mixer-4998
END:VEVENT

END:VCALENDAR
