BEGIN:VCALENDAR
VERSION:2.0
PRODID:-//ChamberMaster//Event Calendar 2.0//EN
METHOD:PUBLISH
X-PUBLISHED-TTL:P3D
REFRESH-INTERVAL:P3D
CALSCALE:GREGORIAN
BEGIN:VEVENT
DTSTART:20191206T161500Z
DTEND:20191206T201500Z
X-MICROSOFT-CDO-ALLDAYEVENT:FALSE
SUMMARY:Pioneer Center's 14th Annual Holiday Book Review
DESCRIPTION:This exciting event\, seating over 400 ladies\, offers a grand raffle\, over 50 raffle baskets and an author/speaker during a plated luncheon. The featured speaker\, renowned author\, Becky Melby\, will give a wonderful Christmas talk on how we got from "Bethlehem to Amazon". This event is as an annual way for women in the county to kick-off their holiday season while supporting Pioneer Center.
X-ALT-DESC;FMTTYPE=text/html:This exciting event\, seating over 400 ladies\, offers a grand raffle\, over 50 raffle baskets and an author/speaker during a plated luncheon. The featured speaker\, renowned author\,&nbsp\;Becky Melby\, will give a wonderful Christmas talk on how we got from &quot\;Bethlehem to Amazon&quot\;. This&nbsp\;event is as an annual way for women in the county to kick-off their holiday season while supporting Pioneer Center.
LOCATION:D'Andrea Banquets 4419 US-14 Crystal Lake\, IL 60014
UID:e.2066.3170
SEQUENCE:3
DTSTAMP:20260424T190122Z
URL:https://dev.chainolakeschamber.com/events/details/pioneer-center-s-14th-annual-holiday-book-review-3170
END:VEVENT

END:VCALENDAR
