BEGIN:VCALENDAR
VERSION:2.0
PRODID:-//ChamberMaster//Event Calendar 2.0//EN
METHOD:PUBLISH
X-PUBLISHED-TTL:P3D
REFRESH-INTERVAL:P3D
CALSCALE:GREGORIAN
BEGIN:VEVENT
DTSTART:20181207T164500Z
DTEND:20181207T210000Z
X-MICROSOFT-CDO-ALLDAYEVENT:FALSE
SUMMARY:Pioneer Center's 13th Annual Holiday Book Review
DESCRIPTION:"HAPPY HOLI-DAZE"\n\nIt begins with a simple string of outdoor lights. Then the lights cry out for a wreath\, the wreath screams for a red plaid bow\, and giant candy canes would sure look nice at the end of the driveway. Before you know it\, you are gift wrapping the mailbox\, winding tinsel around the luggage rack on the SUV and have six albino deer parked in the front yard. Join nationally-syndicated humor columnist Lori Borgman as she examines the insanity of Holi-daze bound by family celebrations and holiday traditions.
X-ALT-DESC;FMTTYPE=text/html:<p><span style="color:rgb(51\, 51\, 51)\; font-family:verdana\,sans-serif\; font-size:10.5pt">&ldquo\;HAPPY HOLI-DAZE&rdquo\;<br />\nIt begins with a simple string of outdoor lights. Then the lights cry out for a wreath\, the wreath screams for a red plaid bow\, and giant candy canes would sure look nice at the end of the driveway. Before you know it\, you are gift wrapping the mailbox\, winding tinsel around the luggage rack on the SUV and have six albino deer parked in the front yard. Join nationally-syndicated humor columnist Lori Borgman as she examines the insanity of Holi-daze bound by family celebrations and holiday traditions.</span></p>\n
LOCATION:D'Andreas\, Crystal Lake IL
UID:e.2066.1681
SEQUENCE:3
DTSTAMP:20260425T133814Z
URL:https://dev.chainolakeschamber.com/events/details/pioneer-center-s-13th-annual-holiday-book-review-1681
END:VEVENT

END:VCALENDAR
