BEGIN:VCALENDAR
VERSION:2.0
PRODID:-//ChamberMaster//Event Calendar 2.0//EN
METHOD:PUBLISH
X-PUBLISHED-TTL:P3D
REFRESH-INTERVAL:P3D
CALSCALE:GREGORIAN
BEGIN:VEVENT
DTSTART:20190122T230000Z
DTEND:20190123T010000Z
X-MICROSOFT-CDO-ALLDAYEVENT:FALSE
SUMMARY:Pioneer Center Multi Chamber Mixer
DESCRIPTION:Winter Wonderland!\n\n\n\nMeet the staff and learn about what Pioneer center does for the community.\n\n\n\nEnjoy Spiked hot beverages and sweet treats
X-ALT-DESC;FMTTYPE=text/html:Winter Wonderland!<br />\n<br />\nMeet the staff and learn about what Pioneer center does for the community.<br />\n<br />\n<span style="font-size:18px\;">Enjoy Spiked hot beverages and sweet treats</span>
LOCATION:Pioneer Center for Human Services 4001 Dayton St McHenry Il
UID:e.2066.1688
SEQUENCE:3
DTSTAMP:20260425T115727Z
URL:https://dev.chainolakeschamber.com/events/details/pioneer-center-multi-chamber-mixer-1688
END:VEVENT

END:VCALENDAR
