BEGIN:VCALENDAR
VERSION:2.0
PRODID:-//ChamberMaster//Event Calendar 2.0//EN
METHOD:PUBLISH
X-PUBLISHED-TTL:P3D
REFRESH-INTERVAL:P3D
CALSCALE:GREGORIAN
BEGIN:VEVENT
DTSTART:20181020T220000Z
DTEND:20181021T010000Z
X-MICROSOFT-CDO-ALLDAYEVENT:FALSE
SUMMARY:Pioneer Center Bingo and Boos!
DESCRIPTION:Haloween Bingo\n\n\n\nGreat night out with friends\, family or your significant other!\n\nJoin us for a night of food\, drinks and spooky fun and prizes!
X-ALT-DESC;FMTTYPE=text/html:Haloween Bingo<br />\n<br />\n<span style="color:black\;"><span style="font-family:arial\,sans-serif\;"><span style="font-size:12.0pt\;">Great night out with friends\, family or your significant other!</span></span></span><br />\n<span style="color:black\;"><span style="font-family:arial\,sans-serif\;"><span style="font-size:12.0pt\;">Join us for a night of food\, drinks and spooky fun and prizes!</span></span></span><br />\n&nbsp\;
LOCATION:Galati's 800 Feinberg Ct\, Cary\, IL
UID:e.2066.1200
SEQUENCE:3
DTSTAMP:20260425T165058Z
URL:https://dev.chainolakeschamber.com/events/details/pioneer-center-bingo-and-boos-1200
END:VEVENT

END:VCALENDAR
