BEGIN:VCALENDAR
VERSION:2.0
PRODID:-//ChamberMaster//Event Calendar 2.0//EN
METHOD:PUBLISH
X-PUBLISHED-TTL:P3D
REFRESH-INTERVAL:P3D
CALSCALE:GREGORIAN
BEGIN:VEVENT
DTSTART:20181020T140000Z
DTEND:20181020T200000Z
X-MICROSOFT-CDO-ALLDAYEVENT:FALSE
SUMMARY:Pet Wellness Seminar at Main Stay
DESCRIPTION:We love our pets and all want to take care of them the best possible way. Afterall\, they are our best friends! From food\, to vet care\, to grooming\, boarding and home care with essential oils\, we want YOUR pet to live as healthy and abundant life as possible! \n\n\n\nJoin us at beautiful Main Stay Therapeutic Farm for a day chock full of information that will benefit your loved 4 legged family members. Dorothy\, owner of Nature's Feed in Spring Grove\, Dr. Brand of Richmond Veterinary Clinic in Richmond\, and Liz Bappert of CanineEo in Richmond are teaming up to help you be proactive with your pet's wellness at this fun and educational seminar. Additionally\, we are so excited to have Premier Veterinary Group of Grayslake\, Fur the Love of Dogs of Spring Grove and Cassandra of AWAKEN Holistic Hemp Water join us to speak about other wellness supports that benefit our furred friends. There will be time for questions and discussion\, too! Please remember to bring a note book or your tablet to take notes. We will have bottled water and some fruit available for snacking. Lunch includes a sandwich and chips. A gluten free option of salad is available with prior arrangement. Attenders will receive a goody bag\, too!
X-ALT-DESC;FMTTYPE=text/html:<span style="display: inline !important\; float: none\; background-color: transparent\; color: rgb(111\, 114\, 135)\; font-family: Neue Plak\,-apple-system\,BlinkMacSystemFont\,Roboto\,Helvetica Neue\,Helvetica\,Tahoma\,Arial\,sans-serif\; font-size: 15px\; font-style: normal\; font-variant: normal\; font-weight: 400\; letter-spacing: 0.5px\; orphans: 2\; text-align: left\; text-decoration: none\; text-indent: 0px\; text-transform: none\; -webkit-text-stroke-width: 0px\; white-space: normal\; word-spacing: 0px\;">We love our pets and all want to take care of them the best possible way. Afterall\, they are our best friends! From food\, to vet care\, to grooming\, boarding and home care with essential oils\, we want YOUR pet to live as healthy and abundant life as possible! </span><br style="background-color: transparent\; color: rgb(111\, 114\, 135)\; font-family: Neue Plak\,-apple-system\,BlinkMacSystemFont\,Roboto\,Helvetica Neue\,Helvetica\,Tahoma\,Arial\,sans-serif\; font-size: 15px\; font-style: normal\; font-variant: normal\; font-weight: 400\; letter-spacing: 0.5px\; orphans: 2\; padding-top: 0px\; text-align: left\; text-decoration: none\; text-indent: 0px\; text-transform: none\; -webkit-text-stroke-width: 0px\; white-space: normal\; word-spacing: 0px\;" />\n<br style="background-color: transparent\; color: rgb(111\, 114\, 135)\; font-family: Neue Plak\,-apple-system\,BlinkMacSystemFont\,Roboto\,Helvetica Neue\,Helvetica\,Tahoma\,Arial\,sans-serif\; font-size: 15px\; font-style: normal\; font-variant: normal\; font-weight: 400\; letter-spacing: 0.5px\; margin-bottom: 0px\; margin-left: 0px\; margin-right: 0px\; margin-top: 0px\; orphans: 2\; padding-bottom: 0px\; padding-left: 0px\; padding-right: 0px\; padding-top: 0px\; text-align: left\; text-decoration: none\; text-indent: 0px\; text-transform: none\; -webkit-text-stroke-width: 0px\; white-space: normal\; word-spacing: 0px\;" />\n<span style="display: inline !important\; float: none\; background-color: transparent\; color: rgb(111\, 114\, 135)\; font-family: Neue Plak\,-apple-system\,BlinkMacSystemFont\,Roboto\,Helvetica Neue\,Helvetica\,Tahoma\,Arial\,sans-serif\; font-size: 15px\; font-style: normal\; font-variant: normal\; font-weight: 400\; letter-spacing: 0.5px\; orphans: 2\; text-align: left\; text-decoration: none\; text-indent: 0px\; text-transform: none\; -webkit-text-stroke-width: 0px\; white-space: normal\; word-spacing: 0px\;">Join us at beautiful Main Stay Therapeutic Farm for a day chock full of information that will benefit your loved 4 legged family members. Dorothy\, owner of Nature&#39\;s Feed in Spring Grove\, Dr. Brand of Richmond Veterinary Clinic in Richmond\, and Liz Bappert of CanineEo in Richmond are teaming up to help you be proactive with your pet&#39\;s wellness at this fun and educational seminar. Additionally\, we are so excited to have Premier Veterinary Group of Grayslake\, Fur the Love of Dogs of Spring Grove and Cassandra of AWAKEN Holistic Hemp Water join us to speak about other wellness supports that benefit our furred friends. There will be time for questions and discussion\, too! Please remember to bring a note book or your tablet to take notes. We will have bottled water and some fruit available for snacking. Lunch includes a sandwich and chips. A gluten free option of salad is available with prior arrangement. Attenders will receive a goody bag\, too!</span>
LOCATION:Main Stay Therapeutic Farm 6919 Keystone Road Richmond\, IL 60071
UID:e.2066.1645
SEQUENCE:3
DTSTAMP:20260425T164944Z
URL:https://dev.chainolakeschamber.com/events/details/pet-wellness-seminar-at-main-stay-1645
END:VEVENT

END:VCALENDAR
