BEGIN:VCALENDAR
VERSION:2.0
PRODID:-//ChamberMaster//Event Calendar 2.0//EN
METHOD:PUBLISH
X-PUBLISHED-TTL:P3D
REFRESH-INTERVAL:P3D
CALSCALE:GREGORIAN
BEGIN:VEVENT
DTSTART:20230107T170000Z
DTEND:20230107T200000Z
X-MICROSOFT-CDO-ALLDAYEVENT:FALSE
SUMMARY:Pet Nail Clipping Event
DESCRIPTION:Bring your fur babies to Nature's Feed located at 2440 Westward Dr. this Saturday\, January 7th from 11:00 a.m. to 2:00 p.m. for their first pet nail clipping event of 2023! Donations requested benefit Helping Paws Animal Shelter & nail trimming will be provided by Fur the Love of Dogs.
X-ALT-DESC;FMTTYPE=text/html:<span style="border: 0px\; font-variant-numeric: inherit\; font-variant-east-asian: inherit\; font-stretch: inherit\; font-size: 12px\; line-height: inherit\; font-family: Arial\, Verdana\, Helvetica\, sans-serif\; margin: 0px\; padding: 0px\; vertical-align: baseline\; color: rgb(77\, 77\, 77)\; background-color: rgb(255\, 255\, 255)\;">Bring your fur babies to Nature&#39\;s Feed located at&nbsp\;</span><a data-auth="NotApplicable" data-linkindex="5" data-safelink="true" href="https://r20.rs6.net/tn.jsp?f=001lgrH-BnKnH3oS8E9X45nchwWhwXvnWuUjlG0wv18iK4f_xGB4cukxtq_p2J3hVldo5ZePB3KcGoENIqw1_v8hWBjW78VEeQ-SWMMglbC1842Rf-mxrSfZVE8Myq4Vd-c0sejh3SgAuqOGcPgsI5V0YCHDsCrikZWg67D9JwaQF0=&amp\;c=hL44rgznH2mW6F_UFWk6RWIpRckQMaqgYJZC0F__sSJLjTyrQlB2PQ==&amp\;ch=AvbLq2b1mORxb98z89w4kslgZ1DJQhdxr1oIzAWxYWIfqNtTE_hXKg==" rel="noopener noreferrer" style="border: 0px\; font-variant-numeric: inherit\; font-variant-east-asian: inherit\; font-stretch: inherit\; font-size: 12px\; line-height: inherit\; font-family: Arial\, Verdana\, Helvetica\, sans-serif\; margin: 0px\; padding: 0px\; vertical-align: baseline\; background-color: rgb(255\, 255\, 255)\; color: rgb(77\, 77\, 77)\;" target="_blank">2440 Westward Dr</a><span style="border: 0px\; font-variant-numeric: inherit\; font-variant-east-asian: inherit\; font-stretch: inherit\; font-size: 12px\; line-height: inherit\; font-family: Arial\, Verdana\, Helvetica\, sans-serif\; margin: 0px\; padding: 0px\; vertical-align: baseline\; color: rgb(77\, 77\, 77)\; background-color: rgb(255\, 255\, 255)\;">. this Saturday\, January 7th from 11:00 a.m. to 2:00 p.m. for their first pet nail clipping event of 2023! Donations requested benefit&nbsp\;</span><a data-auth="NotApplicable" data-linkindex="6" data-safelink="true" href="https://r20.rs6.net/tn.jsp?f=001lgrH-BnKnH3oS8E9X45nchwWhwXvnWuUjlG0wv18iK4f_xGB4cukxn1KHijrq94-lfPHMdzXyyCz_Z35jHmC1JysYpUIpiKjxct-RY435ptsiGclGmtq_PFAapmxin9pS2PxLiRyLJ-S2Gavw_q51A==&amp\;c=hL44rgznH2mW6F_UFWk6RWIpRckQMaqgYJZC0F__sSJLjTyrQlB2PQ==&amp\;ch=AvbLq2b1mORxb98z89w4kslgZ1DJQhdxr1oIzAWxYWIfqNtTE_hXKg==" rel="noopener noreferrer" style="border: 0px\; font-variant-numeric: inherit\; font-variant-east-asian: inherit\; font-stretch: inherit\; font-size: 12px\; line-height: inherit\; font-family: Arial\, Verdana\, Helvetica\, sans-serif\; margin: 0px\; padding: 0px\; vertical-align: baseline\; background-color: rgb(255\, 255\, 255)\; color: rgb(77\, 77\, 77)\;" target="_blank">Helping Paws Animal Shelter</a><span style="border: 0px\; font-variant-numeric: inherit\; font-variant-east-asian: inherit\; font-stretch: inherit\; font-size: 12px\; line-height: inherit\; font-family: Arial\, Verdana\, Helvetica\, sans-serif\; margin: 0px\; padding: 0px\; vertical-align: baseline\; color: rgb(77\, 77\, 77)\; background-color: rgb(255\, 255\, 255)\;">&nbsp\;&amp\; nail trimming will be provided by&nbsp\;</span><a data-auth="NotApplicable" data-linkindex="7" data-safelink="true" href="https://r20.rs6.net/tn.jsp?f=001lgrH-BnKnH3oS8E9X45nchwWhwXvnWuUjlG0wv18iK4f_xGB4cukxhr7qzWTpdhm-bEXA51HBjeBnEMepjorghnRcO9VWgjEyaVnZfoozUZAnj6_u7Mx3vIG31AGcoCIAWQ8LfGvv0Tj9qeyLcbOki00kZceF8DD&amp\;c=hL44rgznH2mW6F_UFWk6RWIpRckQMaqgYJZC0F__sSJLjTyrQlB2PQ==&amp\;ch=AvbLq2b1mORxb98z89w4kslgZ1DJQhdxr1oIzAWxYWIfqNtTE_hXKg==" rel="noopener noreferrer" style="border: 0px\; font-variant-numeric: inherit\; font-variant-east-asian: inherit\; font-stretch: inherit\; font-size: 12px\; line-height: inherit\; font-family: Arial\, Verdana\, Helvetica\, sans-serif\; margin: 0px\; padding: 0px\; vertical-align: baseline\; background-color: rgb(255\, 255\, 255)\; color: rgb(77\, 77\, 77)\;" target="_blank">Fur the Love of Dogs</a><span style="border: 0px\; font-variant-numeric: inherit\; font-variant-east-asian: inherit\; font-stretch: inherit\; font-size: 12px\; line-height: inherit\; font-family: Arial\, Verdana\, Helvetica\, sans-serif\; margin: 0px\; padding: 0px\; vertical-align: baseline\; color: rgb(77\, 77\, 77)\; background-color: rgb(255\, 255\, 255)\;">.</span>
LOCATION:Nature's Feed 2440 Westward Dr Spring Grove IL
UID:e.2066.4908
SEQUENCE:3
DTSTAMP:20260420T021402Z
URL:https://dev.chainolakeschamber.com/events/details/pet-nail-clipping-event-4908
END:VEVENT

END:VCALENDAR
