BEGIN:VCALENDAR
VERSION:2.0
PRODID:-//ChamberMaster//Event Calendar 2.0//EN
METHOD:PUBLISH
X-PUBLISHED-TTL:P3D
REFRESH-INTERVAL:P3D
CALSCALE:GREGORIAN
BEGIN:VEVENT
DTSTART:20221112T170000Z
DTEND:20221112T200000Z
X-MICROSOFT-CDO-ALLDAYEVENT:FALSE
SUMMARY:Pet Nail Clipping Event
DESCRIPTION:Bring your pets to Nature's Feed for our November Pet Nail Clipping Event. Donations requested benefit the Spring Grove & Richmond Food Pantries
X-ALT-DESC;FMTTYPE=text/html:Bring your pets to Nature&#39\;s Feed for our November Pet Nail Clipping Event. Donations requested benefit the Spring Grove &amp\; Richmond Food Pantries
LOCATION:
UID:e.2066.4587
SEQUENCE:3
DTSTAMP:20260422T092424Z
URL:https://dev.chainolakeschamber.com/events/details/pet-nail-clipping-event-4587
END:VEVENT

END:VCALENDAR
