BEGIN:VCALENDAR
VERSION:2.0
PRODID:-//ChamberMaster//Event Calendar 2.0//EN
METHOD:PUBLISH
X-PUBLISHED-TTL:P3D
REFRESH-INTERVAL:P3D
CALSCALE:GREGORIAN
BEGIN:VEVENT
DTSTART:20190615T160000Z
DTEND:20190615T190000Z
X-MICROSOFT-CDO-ALLDAYEVENT:FALSE
SUMMARY:Pet Nail Clipping
DESCRIPTION:
X-ALT-DESC;FMTTYPE=text/html:
LOCATION:Nature's Feed 2440 Westward Dr. #C Spring Grove
UID:e.2066.2952
SEQUENCE:3
DTSTAMP:20260425T040032Z
URL:https://dev.chainolakeschamber.com/events/details/pet-nail-clipping-2952
END:VEVENT

END:VCALENDAR
