BEGIN:VCALENDAR
VERSION:2.0
PRODID:-//ChamberMaster//Event Calendar 2.0//EN
METHOD:PUBLISH
X-PUBLISHED-TTL:P3D
REFRESH-INTERVAL:P3D
CALSCALE:GREGORIAN
BEGIN:VEVENT
DTSTART:20230225T160000Z
DTEND:20230225T200000Z
X-MICROSOFT-CDO-ALLDAYEVENT:FALSE
SUMMARY:Pet Nail Clippiing at Nature's Feed
DESCRIPTION:Stop by Nature's Feed with your furry friend  for nail clipping by Sophie from Plush Pup and donations benefit Young At Heart!
X-ALT-DESC;FMTTYPE=text/html:Stop by Nature&#39\;s Feed with your furry friend&nbsp\; for nail clipping by Sophie from Plush Pup and donations benefit Young At Heart!
LOCATION:Nature's Feed 2440 Westward Dr Spring Grove
UID:e.2066.4996
SEQUENCE:3
DTSTAMP:20260419T223122Z
URL:https://dev.chainolakeschamber.com/events/details/pet-nail-clippiing-at-nature-s-feed-4996
END:VEVENT

END:VCALENDAR
