BEGIN:VCALENDAR
VERSION:2.0
PRODID:-//ChamberMaster//Event Calendar 2.0//EN
METHOD:PUBLISH
X-PUBLISHED-TTL:P3D
REFRESH-INTERVAL:P3D
CALSCALE:GREGORIAN
BEGIN:VEVENT
DTSTART:20220911T160000Z
DTEND:20220911T200000Z
X-MICROSOFT-CDO-ALLDAYEVENT:FALSE
SUMMARY:Perricone Garden Center & Nursery Fall Fest
DESCRIPTION:Coming Soon! All Your Fall Decorating Needs!\n\nPumpkins\n\nCornstalks\n\nStraw Bales\n\nGourds\n\nFall Flowers\n\n& More!
X-ALT-DESC;FMTTYPE=text/html:Coming Soon! All Your Fall Decorating Needs!<br />\nPumpkins<br />\nCornstalks<br />\nStraw Bales<br />\nGourds<br />\nFall Flowers<br />\n&amp\; More!
LOCATION:31600 Fisher Road Volo\, IL 60051
UID:e.2066.4596
SEQUENCE:3
DTSTAMP:20260422T122711Z
URL:https://dev.chainolakeschamber.com/events/details/perricone-garden-center-nursery-fall-fest-4596
END:VEVENT

END:VCALENDAR
