BEGIN:VCALENDAR
VERSION:2.0
PRODID:-//ChamberMaster//Event Calendar 2.0//EN
METHOD:PUBLISH
X-PUBLISHED-TTL:P3D
REFRESH-INTERVAL:P3D
CALSCALE:GREGORIAN
BEGIN:VEVENT
DTSTART:20200125T140000Z
DTEND:20200125T190000Z
X-MICROSOFT-CDO-ALLDAYEVENT:FALSE
SUMMARY:People in Need Forum
DESCRIPTION:People in Need Forum - learn about the pressing topics affecting people in McHenry County and the local resources to support folks in need. Sessions and exhibits include: Immigration and resources to help families\, Senior issues\, caregiver resources\, Special needs financial planning and much more.
X-ALT-DESC;FMTTYPE=text/html:People in Need Forum - learn about the pressing topics affecting people in McHenry County and the local resources to support folks in need. Sessions and exhibits include: Immigration and resources to help families\, Senior issues\, caregiver resources\, Special needs financial planning and much more.
LOCATION:McHenry County College - Luecht Auditorium
UID:e.2066.3183
SEQUENCE:3
DTSTAMP:20260424T171609Z
URL:https://dev.chainolakeschamber.com/events/details/people-in-need-forum-3183
END:VEVENT

END:VCALENDAR
