BEGIN:VCALENDAR
VERSION:2.0
PRODID:-//ChamberMaster//Event Calendar 2.0//EN
METHOD:PUBLISH
X-PUBLISHED-TTL:P3D
REFRESH-INTERVAL:P3D
CALSCALE:GREGORIAN
BEGIN:VEVENT
DTSTART:20230624T150000Z
DTEND:20230625T210000Z
X-MICROSOFT-CDO-ALLDAYEVENT:FALSE
SUMMARY:Pedalpalooza
DESCRIPTION:Pedalpalooza is a spectacular fundraising bike event that helps provide health care to the uninsured men and women of McHenry County.. Participants receive a cool T-shirt (while they last so register early!)\, wristband & map of biking locations along the trail. Your wristband provides for "Pedalpalooza Perks" -special discounts\, offers or raffles at each participating Pedalpalooza location. Let's rally our community together to support our awesome\, local small businesses while bringing awareness and much needed funds to local nonprofit\, Family Health Partnership Clinic. Pump up those tires\, grab a few friends\, plan your route and get Pedalpalooza-ing! Plus\, if you fundraise $100 or more\, you earn a fabulous Pedalpalooza Dri-fit SPF longsleeve hoodie!
X-ALT-DESC;FMTTYPE=text/html:Pedalpalooza is a spectacular fundraising bike event that helps provide health care to the uninsured men and women of McHenry County.. Participants receive a cool T-shirt (while they last so register early!)\, wristband &amp\; map of biking locations along the trail. Your wristband provides for &quot\;Pedalpalooza Perks&quot\; -special discounts\, offers or raffles at each participating Pedalpalooza location. Let&#39\;s rally our community together to support our awesome\, local small businesses while bringing awareness and much needed funds to local nonprofit\, Family Health Partnership Clinic. Pump up those tires\, grab a few friends\, plan your route and get Pedalpalooza-ing! Plus\, if you fundraise $100 or more\, you earn a fabulous Pedalpalooza Dri-fit SPF longsleeve hoodie!
LOCATION:All throughout McHenry County Hebron: The Dari- 10% off purchase Hazel's Diner & Bakery- $10 Avocado Toast Pedalpalooza breakfast plate Richmond: Anderson's Candy Shop-10% candy bars & all Anderson's branded Merch Richmond Brat Haus- Famous Mule Menu $6 Hammer & Stain-20% off pre-made decor & BOGO 50% off paint take home projects Finery & Finishes- Raffle basket Harper G Mercantile- 20% off men & women clothes Ivy's Oh So Sweet- Free topping of your choice Jack Romine Farmer's Insurance- Free quote Aeon Gallery & Lounge- $5 Adult Boozy Pops Doyle's Pub- Guinness Raffle Basket Ringwood: Rusty Nail Saloon- Sat: Prime Rib Special\, Sun: Chicken Wing Special Rusty Malts- Free sampler cone
UID:e.2066.5220
SEQUENCE:3
DTSTAMP:20260419T171322Z
URL:https://dev.chainolakeschamber.com/events/details/pedalpalooza-5220
END:VEVENT

END:VCALENDAR
