BEGIN:VCALENDAR
VERSION:2.0
PRODID:-//ChamberMaster//Event Calendar 2.0//EN
METHOD:PUBLISH
X-PUBLISHED-TTL:P3D
REFRESH-INTERVAL:P3D
CALSCALE:GREGORIAN
BEGIN:VEVENT
DTSTART:20221004T170000Z
DTEND:20221004T180000Z
X-MICROSOFT-CDO-ALLDAYEVENT:FALSE
SUMMARY:Peace of Mind: Protecting Yourself with Powers of Attorney and Health Care Directives
DESCRIPTION:Peace of Mind:\n\nProtecting Yourself with Powers of Attorney \n\nand Health Care Directives\n\nPresented by: Caren E. I. Naidoff\, JD and Alan R. Press\, JD\, CPA\n\n Shire Law Group\, PC \n\nDiscover the importance of putting in place Powers of Attorney and Health Care Directives\, what happens if there are no documents in place and how easy it is to empower yourself with these essential documents.
X-ALT-DESC;FMTTYPE=text/html:<span style="color:#0C612D"><span style="font-family:segoe ui black\,sans-serif"><span style="font-size:28.0pt">Peace of Mind:</span></span></span><br />\n<span style="color:#0C612D"><span style="font-family:segoe ui black\,sans-serif"><span style="font-size:22.0pt">Protecting Yourself with Powers of Attorney </span></span></span><br />\n<span style="color:#0C612D"><span style="font-family:segoe ui black\,sans-serif"><span style="font-size:22.0pt">and Health Care Directives</span></span></span><br />\n<span style="color:black"><span style="font-family:arial\,sans-serif"><span style="font-size:16.0pt">Presented by: Caren E. I. Naidoff\, JD and Alan R. Press\, JD\, CPA</span></span></span><br />\n<span style="color:black"><span style="font-family:arial\,sans-serif"><span style="font-size:16.0pt">&nbsp\;Shire Law Group\, PC&reg\;</span></span></span><br />\n<span style="font-family:arial narrow\,sans-serif"><span style="font-size:18.0pt">Discover the importance of putting in place Powers of Attorney and Health Care Directives\, what happens if there are no documents in place and how easy it is to empower yourself with these essential documents.</span></span><br />\n<br />\n<br />\n&nbsp\;
LOCATION:Zoom Webinar: Register Here: https://us02web.zoom.us/meeting/register/tZAtd-uhrD4qHdTdYp4nmrB_4vJbNlEmGX3a
UID:e.2066.4573
SEQUENCE:3
DTSTAMP:20260422T112221Z
URL:https://dev.chainolakeschamber.com/events/details/peace-of-mind-protecting-yourself-with-powers-of-attorney-and-health-care-directives-4573
END:VEVENT

END:VCALENDAR
