BEGIN:VCALENDAR
VERSION:2.0
PRODID:-//ChamberMaster//Event Calendar 2.0//EN
METHOD:PUBLISH
X-PUBLISHED-TTL:P3D
REFRESH-INTERVAL:P3D
CALSCALE:GREGORIAN
BEGIN:VEVENT
DTSTART:20221112T153000Z
DTEND:20221112T163000Z
X-MICROSOFT-CDO-ALLDAYEVENT:FALSE
SUMMARY:Panel Discussion Younger Onset Memory Loss
DESCRIPTION:Elderwerks Educational Services & Lorenzo's House present an interactive\n\ndiscussion about younger-onset dementia and memory loss. A welcome by Illinois Lt.\n\nGovernor Juliana Stratton will kick off this event.\n\n\n\nIf you\, someone you love\, or someone you know are caring for someone with younger-onset\n\nmemory loss\, please attend this discussion.
X-ALT-DESC;FMTTYPE=text/html:Elderwerks Educational Services &amp\;&nbsp\;Lorenzo&#39\;s House present an interactive<br />\ndiscussion about younger-onset dementia&nbsp\;and memory loss. A welcome by Illinois Lt.<br />\nGovernor Juliana Stratton will kick off this&nbsp\;event.<br />\n<br />\nIf you\, someone you love\, or someone you&nbsp\;know are caring for someone with younger-onset<br />\nmemory loss\, please attend this&nbsp\;discussion.
LOCATION:Zoom https://us02web.zoom.us/meeting/register/tZYsf--rpzosHdXDypxdquivfcUuoolCZjXw
UID:e.2066.4860
SEQUENCE:3
DTSTAMP:20260422T092320Z
URL:https://dev.chainolakeschamber.com/events/details/panel-discussion-younger-onset-memory-loss-4860
END:VEVENT

END:VCALENDAR
