BEGIN:VCALENDAR
VERSION:2.0
PRODID:-//ChamberMaster//Event Calendar 2.0//EN
METHOD:PUBLISH
X-PUBLISHED-TTL:P3D
REFRESH-INTERVAL:P3D
CALSCALE:GREGORIAN
BEGIN:VEVENT
DTSTART:20180803T150000Z
DTEND:20180803T160000Z
X-MICROSOFT-CDO-ALLDAYEVENT:FALSE
SUMMARY:Paint with Me
DESCRIPTION:Listen to the story\, "I Am Do'er Duck" and bring this character to life on canvas! Make a masterpiece and a memory with your child(ren). Afterwards meet and greet this 'ducky' character\, too!\n\nAges 1-5 with an adult\n\nAges 6-10 welcome on their own
X-ALT-DESC;FMTTYPE=text/html:Listen to the story\, &quot\;I Am Do&#39\;er Duck&quot\; and bring this character to life on canvas! Make a masterpiece and a memory with your child(ren). Afterwards meet and greet this &#39\;ducky&#39\; character\, too!<br />\nAges 1-5 with an adult<br />\nAges 6-10 welcome on their own
LOCATION:Knotty Pine Farm
UID:e.2066.1178
SEQUENCE:3
DTSTAMP:20260425T191829Z
URL:https://dev.chainolakeschamber.com/events/details/paint-with-me-1178
END:VEVENT

END:VCALENDAR
