BEGIN:VCALENDAR
VERSION:2.0
PRODID:-//ChamberMaster//Event Calendar 2.0//EN
METHOD:PUBLISH
X-PUBLISHED-TTL:P3D
REFRESH-INTERVAL:P3D
CALSCALE:GREGORIAN
BEGIN:VEVENT
DTSTART:20180810T150000Z
DTEND:20180810T160000Z
X-MICROSOFT-CDO-ALLDAYEVENT:FALSE
SUMMARY:Paint with Me
DESCRIPTION:Listen to the story "I Am Self-Esteem Elephant" and bring this character to life on canvas to take home as a masterpiece and a memory! You can also meet Self-Esteem Elephant after painting! Ages 1-5 with an adult and ages 6-10 on their own
X-ALT-DESC;FMTTYPE=text/html:Listen to the story &quot\;I Am Self-Esteem Elephant&quot\; and bring this character to life on canvas to take home as a masterpiece and a memory! You can also meet Self-Esteem Elephant after painting! Ages 1-5 with an adult and ages 6-10 on their own
LOCATION:Knotty Pine Farm
UID:e.2066.1179
SEQUENCE:3
DTSTAMP:20260425T191921Z
URL:https://dev.chainolakeschamber.com/events/details/paint-with-me-08-10-2018-1179
END:VEVENT

END:VCALENDAR
