BEGIN:VCALENDAR
VERSION:2.0
PRODID:-//ChamberMaster//Event Calendar 2.0//EN
METHOD:PUBLISH
X-PUBLISHED-TTL:P3D
REFRESH-INTERVAL:P3D
CALSCALE:GREGORIAN
BEGIN:VEVENT
DTSTART:20220316T133000Z
DTEND:20220316T173000Z
X-MICROSOFT-CDO-ALLDAYEVENT:FALSE
SUMMARY:Outlook Emailing and Calendaring Techniques
DESCRIPTION:If you use Outlook\, you know how useful its calendar is for scheduling appointments and meetings. But there's more to the calendar and emails than you might think. This workshop will help you become more efficient and organized in your daily work.
X-ALT-DESC;FMTTYPE=text/html:If you use Outlook\, you know how useful its calendar is for scheduling appointments and meetings. But there&rsquo\;s more to the calendar and emails than you might think. This workshop will help you become more efficient and organized in your daily work.
LOCATION:Live Zoom
UID:e.2066.4202
SEQUENCE:3
DTSTAMP:20260422T223505Z
URL:https://dev.chainolakeschamber.com/events/details/outlook-emailing-and-calendaring-techniques-4202
END:VEVENT

END:VCALENDAR
