BEGIN:VCALENDAR
VERSION:2.0
PRODID:-//ChamberMaster//Event Calendar 2.0//EN
METHOD:PUBLISH
X-PUBLISHED-TTL:P3D
REFRESH-INTERVAL:P3D
CALSCALE:GREGORIAN
BEGIN:VEVENT
DTSTART:20230420T230000Z
DTEND:20230421T010000Z
X-MICROSOFT-CDO-ALLDAYEVENT:FALSE
SUMMARY:Options Fair 2023
DESCRIPTION:Options Fair 2023\n\nA fair to connect individuals with disabilities to essential resources for future planning.\n\n\n\nGuest Speakers: Tina Lowry & Milan Myers\, Aspire at 6:00pm\n\nOrganization Fair: 6:30 pm\n\n\n\nSpanish interpreting is available
X-ALT-DESC;FMTTYPE=text/html:Options Fair 2023<br />\nA fair to connect individuals with disabilities to essential resources for future planning.<br />\n<br />\nGuest Speakers: Tina Lowry &amp\; Milan Myers\, Aspire at 6:00pm<br />\nOrganization Fair: 6:30 pm<br />\n<br />\nSpanish interpreting is available
LOCATION:Mundelein High School D120 (Annex) 1500 W. Hawley St Mundelein IL 60060
UID:e.2066.5094
SEQUENCE:3
DTSTAMP:20260419T185103Z
URL:https://dev.chainolakeschamber.com/events/details/options-fair-2023-5094
END:VEVENT

END:VCALENDAR
