BEGIN:VCALENDAR
VERSION:2.0
PRODID:-//ChamberMaster//Event Calendar 2.0//EN
METHOD:PUBLISH
X-PUBLISHED-TTL:P3D
REFRESH-INTERVAL:P3D
CALSCALE:GREGORIAN
BEGIN:VEVENT
DTSTART:20220427T230000Z
DTEND:20220428T000000Z
X-MICROSOFT-CDO-ALLDAYEVENT:FALSE
SUMMARY:Open Q&A Session for Interest in Foster Care with Allendale
DESCRIPTION:Interested in becoming a licensed foster parent\, but not sure where to start? Join Allendale's Foster Care Specialists\, along with a current Foster Parent\, for an open Q&A session for your chance to ask all your questions about fostering! Online only: https://meet.goto.com/911332885 You can also dial in using your phone: United States (Toll-Free): 1 877 309 2073 United States: +1 (646) 749-3129 Access Code: 911-332-885 Hope to talk with you then!
X-ALT-DESC;FMTTYPE=text/html:Interested in becoming a licensed foster parent\, but not sure where to start? Join Allendale&#39\;s Foster Care Specialists\, along with a current Foster Parent\, for an open Q&amp\;A session for your chance to ask all your questions about fostering! Online only: https://meet.goto.com/911332885 You can also dial in using your phone: United States (Toll-Free): 1 877 309 2073 United States: +1 (646) 749-3129 Access Code: 911-332-885 Hope to talk with you then!
LOCATION:Zoom
UID:e.2066.4482
SEQUENCE:3
DTSTAMP:20260422T224151Z
URL:https://dev.chainolakeschamber.com/events/details/open-q-a-session-for-interest-in-foster-care-with-allendale-4482
END:VEVENT

END:VCALENDAR
