BEGIN:VCALENDAR
VERSION:2.0
PRODID:-//ChamberMaster//Event Calendar 2.0//EN
METHOD:PUBLISH
X-PUBLISHED-TTL:P3D
REFRESH-INTERVAL:P3D
CALSCALE:GREGORIAN
BEGIN:VEVENT
DTSTART:20221001T160000Z
DTEND:20221001T210000Z
X-MICROSOFT-CDO-ALLDAYEVENT:FALSE
SUMMARY:Open House at Freedom Boat Club
DESCRIPTION:Learn about the seamless boating experience with Freedom Boat Club and our best promotion of the season! Receive $1\,500 off the 1x Membership fee. Pay   now\; pay the second   in 2023.
X-ALT-DESC;FMTTYPE=text/html:<span style="font-family: Calibri\, Helvetica\, Arial\, sans-serif\; white-space: pre-wrap\; background-color: rgb(255\, 255\, 255)\; font-size: 18px\; color: rgb(51\, 51\, 51)\;">Learn about the seamless boating experience with </span><a data-link-type="web" href="https://info.freedomboatclub.com/dp/mchenry?utm_source=Google+My+Business&amp\;utm_medium=GMB+Extension&amp\;utm_campaign=GMB+Landing+Page&amp\;urlfeed1=What_Are_YOU_Waiting_For?&amp\;urlfeed2=Sea+Fans&amp\;urlfeed3=GMB+Listing&amp\;urlfeed4=Landing+Page+Form&amp\;urlfeed5=3554" rel="noopener noreferrer" style="color: rgb(51\, 51\, 51)\; font-family: Calibri\, Helvetica\, Arial\, sans-serif\; white-space: pre-wrap\; background-color: rgb(255\, 255\, 255)\; font-size: 18px\;" target="_blank">Freedom Boat Club</a><span style="font-family: Calibri\, Helvetica\, Arial\, sans-serif\; white-space: pre-wrap\; background-color: rgb(255\, 255\, 255)\; font-size: 18px\; color: rgb(51\, 51\, 51)\;"> and our best promotion of the season! Receive $1\,500 off the 1x Membership fee. Pay &frac12\; now\; pay the second &frac12\; in 2023.</span>
LOCATION:Pistakee Lake Marina (Next to Famous Freddie's) 514 Park Ave Fox Lake\, IL
UID:e.2066.4625
SEQUENCE:3
DTSTAMP:20260422T111613Z
URL:https://dev.chainolakeschamber.com/events/details/open-house-at-freedom-boat-club-4625
END:VEVENT

END:VCALENDAR
