BEGIN:VCALENDAR
VERSION:2.0
PRODID:-//ChamberMaster//Event Calendar 2.0//EN
METHOD:PUBLISH
X-PUBLISHED-TTL:P3D
REFRESH-INTERVAL:P3D
CALSCALE:GREGORIAN
BEGIN:VEVENT
DTSTART:20181115T220000Z
DTEND:20181116T010000Z
X-MICROSOFT-CDO-ALLDAYEVENT:FALSE
SUMMARY:Northern Illinois Foot & Ankle Specialists ribbon cutting
DESCRIPTION:Northern Illinois Foot & Ankle Specialists\n\n\n\nOpen house/ribbon cutting Thursday November 15 at 4:00 - 7:00 PM
X-ALT-DESC;FMTTYPE=text/html:Northern Illinois Foot &amp\; Ankle Specialists<br />\n<br />\nOpen house/ribbon cutting Thursday November 15 at 4:00 - 7:00 PM<br />\n&nbsp\;
LOCATION:Northern Illinois Foot & Ankle Specialists 1288 S. US Highway 12 Fox Lake\, IL
UID:e.2066.1685
SEQUENCE:3
DTSTAMP:20260425T164522Z
URL:https://dev.chainolakeschamber.com/events/details/northern-illinois-foot-ankle-specialists-ribbon-cutting-1685
END:VEVENT

END:VCALENDAR
