BEGIN:VCALENDAR
VERSION:2.0
PRODID:-//ChamberMaster//Event Calendar 2.0//EN
METHOD:PUBLISH
X-PUBLISHED-TTL:P3D
REFRESH-INTERVAL:P3D
CALSCALE:GREGORIAN
BEGIN:VEVENT
DTSTART:20200111T180000Z
DTEND:20200111T220000Z
X-MICROSOFT-CDO-ALLDAYEVENT:FALSE
SUMMARY:Northbound Fitness Club Ribbon Cutting
DESCRIPTION:Open House with Ribbon Cutting
X-ALT-DESC;FMTTYPE=text/html:Open House with Ribbon Cutting
LOCATION:2222 Pierce Drive Spring Grove\, Illinois 60081
UID:e.2066.3182
SEQUENCE:3
DTSTAMP:20260424T172220Z
URL:https://dev.chainolakeschamber.com/events/details/northbound-fitness-club-ribbon-cutting-3182
END:VEVENT

END:VCALENDAR
