BEGIN:VCALENDAR
VERSION:2.0
PRODID:-//ChamberMaster//Event Calendar 2.0//EN
METHOD:PUBLISH
X-PUBLISHED-TTL:P3D
REFRESH-INTERVAL:P3D
CALSCALE:GREGORIAN
BEGIN:VEVENT
DTSTART:20230204T143000Z
DTEND:20230204T193000Z
X-MICROSOFT-CDO-ALLDAYEVENT:FALSE
SUMMARY:No Regrets 2023 online
DESCRIPTION:"No Regrets" is a ministry that helps develop men into an army to reach the world for Christ\, by discipling and leading others in their area of influence. This year marks their 30th annual conference\, called "Pursue"\, and it will be hosted by churches around the country.\n\n\n\nRiver Ridge is pleased to serve as a host site for the event on February 4\, from 8:00 am until 1:30 pm. Check-in starts at 7:30 am.\n\n\n\nJoin us for a powerful one-day live-stream conference to get renewed\, challenged\, and propelled to become the man of courage God intends you to be.\n\n\n\nEarly bird registration is $40 before January 16\, 2023 and increases to $45 after that date until the registration closes on January 30th.\n\n\n\nThe event includes:\n\n\n	Keynote addresses and worship\n	6 Break-out Seminars with follow-up discussions\n	World-class teaching on topics relevant to men\n	Top speakers and thought leaders\n	Light Lunch\n\n\nRegistration: www.riverridge.online/no-regrets-2023
X-ALT-DESC;FMTTYPE=text/html:<div>\n<p>&quot\;<strong>No Regrets</strong>&quot\; is a ministry that helps develop men into an army to reach the world for Christ\, by discipling and leading others in their area of influence. This year marks their 30th annual conference\, called &quot\;Pursue&quot\;\, and it will be hosted by churches around the country.</p>\n</div>\n\n<div>\n<p><strong>River Ridge</strong>&nbsp\;is pleased to serve as a host site for the event on February 4\, from 8:00 am until 1:30 pm. Check-in starts at 7:30 am.</p>\n</div>\n\n<div>\n<p><strong>Join us</strong>&nbsp\;for a powerful one-day live-stream conference to get renewed\, challenged\, and propelled to become the man of courage God intends you to be.</p>\n</div>\n\n<div>\n<p><strong>Early bird registration</strong>&nbsp\;is $40 before January 16\, 2023 and increases to $45 after that date until the registration closes on January 30th.</p>\n</div>\n\n<div>\n<p>The event includes:</p>\n\n<ul>\n	<li>Keynote addresses and worship</li>\n	<li>6 Break-out Seminars with follow-up discussions</li>\n	<li>World-class teaching on topics relevant to men</li>\n	<li>Top speakers and thought leaders</li>\n	<li>Light Lunch</li>\n</ul>\n\n<p>Registration:&nbsp\;<a href="http://www.riverridge.online/no-regrets-2023">www.riverridge.online/no-regrets-2023</a></p>\n</div>\n
LOCATION:River Ridge Church 7664 Wilmot Rd. Spring Grove\, IL 60081
UID:e.2066.4906
SEQUENCE:3
DTSTAMP:20260419T222929Z
URL:https://dev.chainolakeschamber.com/events/details/no-regrets-2023-online-4906
END:VEVENT

END:VCALENDAR
