BEGIN:VCALENDAR
VERSION:2.0
PRODID:-//ChamberMaster//Event Calendar 2.0//EN
METHOD:PUBLISH
X-PUBLISHED-TTL:P3D
REFRESH-INTERVAL:P3D
CALSCALE:GREGORIAN
BEGIN:VEVENT
DTSTART:20221110T000000Z
DTEND:20221110T040000Z
X-MICROSOFT-CDO-ALLDAYEVENT:FALSE
SUMMARY:NIU Huskies Watch Party
DESCRIPTION:Calling all NIU Huskie fans! Join us at Halftime Bar & Grill in Johnsburg on November 9th to cheer on the Huskies as they take on the Western Michigan Broncos. We'll have pizza available for everyone! Plus\, enjoy additional food & drink specials\, too. See you there!
X-ALT-DESC;FMTTYPE=text/html:<span style="color:rgb(5\, 5\, 5)\; font-family:segoe ui historic\,segoe ui\,helvetica\,arial\,sans-serif\; font-size:15px">Calling all NIU Huskie fans! Join us at Halftime Bar &amp\; Grill in Johnsburg on November 9th to cheer on the Huskies as they take on the Western Michigan Broncos. We&#39\;ll have pizza available for everyone! Plus\, enjoy additional food &amp\; drink specials\, too. See you there!</span>
LOCATION:Hafltime Bar & Grill 2405 Johnsburg Rd. Johnsburg\, IL 60051
UID:e.2066.4858
SEQUENCE:3
DTSTAMP:20260422T092456Z
URL:https://dev.chainolakeschamber.com/events/details/niu-huskies-watch-party-4858
END:VEVENT

END:VCALENDAR
