BEGIN:VCALENDAR
VERSION:2.0
PRODID:-//ChamberMaster//Event Calendar 2.0//EN
METHOD:PUBLISH
X-PUBLISHED-TTL:P3D
REFRESH-INTERVAL:P3D
CALSCALE:GREGORIAN
BEGIN:VEVENT
DTSTART:20230223T230000Z
DTEND:20230224T010000Z
X-MICROSOFT-CDO-ALLDAYEVENT:FALSE
SUMMARY:Nippersink Middle School Music Dept. Annual Spaghetti Dinner
DESCRIPTION:It's Back!!! It's been 3 years! \n\nCome Support Our Nippersink Middle School Music Department Spaghetti Dinner! Thursday\, February 23\, 2023 from 5:00 p.m. to 7:00 p.m. at the Nippersink Middle School located at 10006 Main Street in Richmond. Carry out is available or listen to our Wonderful NMS Music Students while having a yummy dinner!
X-ALT-DESC;FMTTYPE=text/html:<p style="color: rgb(123\, 110\, 101)\; font-family: Arial\, Verdana\, Helvetica\, sans-serif\; font-size: 12px\; margin: 0px\;"><span style="border: 0px\; font-style: inherit\; font-variant: inherit\; font-weight: inherit\; font-stretch: inherit\; font-size: inherit\; line-height: inherit\; font-family: Arial\, Verdana\, Helvetica\, sans-serif\, serif\, EmojiFont\; margin: 0px\; padding: 0px\; vertical-align: baseline\;">It&rsquo\;s Back!!! It&rsquo\;s been 3 years!&nbsp\;</span></p>\n\n<p style="color: rgb(123\, 110\, 101)\; font-family: Arial\, Verdana\, Helvetica\, sans-serif\; font-size: 12px\; margin: 0px\;"><span style="border: 0px\; font-style: inherit\; font-variant: inherit\; font-weight: inherit\; font-stretch: inherit\; font-size: inherit\; line-height: inherit\; font-family: Arial\, Verdana\, Helvetica\, sans-serif\, serif\, EmojiFont\; margin: 0px\; padding: 0px\; vertical-align: baseline\;">Come Support Our Nippersink Middle School Music Department Spaghetti Dinner! Thursday\, February 23\, 2023 from 5:00 p.m. to 7:00 p.m. at the Nippersink Middle School located at&nbsp\;</span><a data-auth="NotApplicable" data-linkindex="11" data-safelink="true" href="https://r20.rs6.net/tn.jsp?f=001oWWv6Q1mrvGxrOJrdYqXi4GxvQqeQ4E7ulRtYRxz55TtOEhr8f8nQf6vcmJfw--tbDNRstw6lcIuLifD197UY4F4P-Gsn7A_OC6x8iimDt2ubjakygE4rU_lwkTPkrHgKgKUwOtrRXpCnIwVSWvpl5pXJd65mYVrSpEeYMhNkvk=&amp\;c=RZlB19HOYY42VuWJt_nrVX1qMHrwaSg8BW3YBfJ-2JnaDp0IxbmpJw==&amp\;ch=jEPI3iC0EncByT1JDvf2VhnfeRGHA9y8KO7riF3R-pRtziQocmmKeg==" rel="noopener noreferrer" style="border: 0px\; font-style: inherit\; font-variant: inherit\; font-stretch: inherit\; font-size: inherit\; line-height: inherit\; margin: 0px\; padding: 0px\; vertical-align: baseline\; color: rgb(123\, 110\, 101)\;" target="_blank">10006 Main Street</a><span style="border: 0px\; font-style: inherit\; font-variant: inherit\; font-weight: inherit\; font-stretch: inherit\; font-size: inherit\; line-height: inherit\; font-family: Arial\, Verdana\, Helvetica\, sans-serif\, serif\, EmojiFont\; margin: 0px\; padding: 0px\; vertical-align: baseline\;">&nbsp\;in Richmond. Carry out is available or listen to our Wonderful NMS Music Students while having a yummy dinner!</span></p>\n
LOCATION:Nippersink Middle School
UID:e.2066.4974
SEQUENCE:3
DTSTAMP:20260419T223122Z
URL:https://dev.chainolakeschamber.com/events/details/nippersink-middle-school-music-dept-annual-spaghetti-dinner-4974
END:VEVENT

END:VCALENDAR
