BEGIN:VCALENDAR
VERSION:2.0
PRODID:-//ChamberMaster//Event Calendar 2.0//EN
METHOD:PUBLISH
X-PUBLISHED-TTL:P3D
REFRESH-INTERVAL:P3D
CALSCALE:GREGORIAN
BEGIN:VEVENT
DTSTART:20190613T000000Z
DTEND:20190613T013000Z
X-MICROSOFT-CDO-ALLDAYEVENT:FALSE
SUMMARY:Ninjas Nights at WLAC
DESCRIPTION:This Summer... Ninjas are taking over WLAC! On Ninja Nights the entire gym will be dedicated to Ninja obstacles and various stations to challenge all Ninjas. We will have the Slack Line and the Ninja Line ready to go along with plenty of other obstacles. This is for those aged 5 and older. $10 Members/$12 Non-Members. You may register in advance\, but drop-ins are always welcome!
X-ALT-DESC;FMTTYPE=text/html:<span style="display: inline !important\; float: none\; background-color: transparent\; color: rgb(29\, 33\, 41)\; font-family: Helvetica\,Arial\,sans-serif\; font-size: 14px\; font-style: normal\; font-variant: normal\; font-weight: 400\; letter-spacing: normal\; orphans: 2\; text-align: left\; text-decoration: none\; text-indent: 0px\; text-transform: none\; -webkit-text-stroke-width: 0px\; white-space: pre-wrap\; word-spacing: 0px\;">This Summer... Ninjas are taking over WLAC! On Ninja Nights the entire gym will be dedicated to Ninja obstacles and various stations to challenge all Ninjas. We will have the Slack Line and the Ninja Line ready to go along with plenty of other obstacles. This is for those aged 5 and older. $10 Members/$12 Non-Members. You may register in advance\, but drop-ins are always welcome!</span>
LOCATION:WLAC 2449 Pierce Dr Spring Grove IL
UID:e.2066.2960
SEQUENCE:3
DTSTAMP:20260425T040032Z
URL:https://dev.chainolakeschamber.com/events/details/ninjas-nights-at-wlac-2960
END:VEVENT

END:VCALENDAR
