BEGIN:VCALENDAR
VERSION:2.0
PRODID:-//ChamberMaster//Event Calendar 2.0//EN
METHOD:PUBLISH
X-PUBLISHED-TTL:P3D
REFRESH-INTERVAL:P3D
CALSCALE:GREGORIAN
BEGIN:VEVENT
DTSTART:20190806T210000Z
DTEND:20190807T010000Z
X-MICROSOFT-CDO-ALLDAYEVENT:FALSE
SUMMARY:Night Out
DESCRIPTION:
X-ALT-DESC;FMTTYPE=text/html:
LOCATION:On August 6\, 2019 at the Community Garden Green (17 E. School Street) starting at 4:00 p.m. join the Village of Fox Lake Police Department for National Night Out - an evening of Public Safety and Community Partnership. This event will be held in conjunction with the Fox Lake Farmers Market in celebration of National Farmers Market Week! There will be a variety of Police\, Fire\, and Public Works vehicles on display. We will also have kids games\, a demonstration by the Metra K-9 unit\, and child safety seat inspections. If you visit all of the stations on the Activity Passport provided at the event\, you will be entered into a drawing to win a RING doorbell system.
UID:e.2066.3118
SEQUENCE:3
DTSTAMP:20260425T010140Z
URL:https://dev.chainolakeschamber.com/events/details/night-out-3118
END:VEVENT

END:VCALENDAR
