BEGIN:VCALENDAR
VERSION:2.0
PRODID:-//ChamberMaster//Event Calendar 2.0//EN
METHOD:PUBLISH
X-PUBLISHED-TTL:P3D
REFRESH-INTERVAL:P3D
CALSCALE:GREGORIAN
BEGIN:VEVENT
DTSTART:20180601T230000Z
DTEND:20180602T030000Z
X-MICROSOFT-CDO-ALLDAYEVENT:FALSE
SUMMARY:Night of the Living Divots
DESCRIPTION:Have you ever golfed in the dark before?\n\nIf you have\, you know how much fun this night can be.\n\n\n\nIf not\, imagine golf - but fun.\n\n\n\nReally this is FUN golf. Glow in the dark balls!  No pressure to hit the ball straight. Fun for a couples night out. \n\n\n\nRichmond Spring Grove chamber of commerce and Twin Lakes chamber of commerce are teaming up to bring you an evening you won't soon forget.
X-ALT-DESC;FMTTYPE=text/html:Have you ever golfed in the dark before?<br />\nIf you have\, you know how much fun this night can be.<br />\n<br />\nIf not\, imagine golf - but fun.<br />\n<br />\nReally this is FUN golf. Glow in the dark balls!&nbsp\; No pressure to hit the ball straight. Fun for a couples night out.&nbsp\;<br />\n<br />\nRichmond Spring Grove chamber of commerce and Twin Lakes chamber of commerce are teaming up to bring you an evening you won&#39\;t soon forget.
LOCATION:Twin Lakes County Club 1230 Legion Dr Twin Lakes WI
UID:e.2066.1094
SEQUENCE:3
DTSTAMP:20260425T234610Z
URL:https://dev.chainolakeschamber.com/events/details/night-of-the-living-divots-1094
END:VEVENT

END:VCALENDAR
