BEGIN:VCALENDAR
VERSION:2.0
PRODID:-//ChamberMaster//Event Calendar 2.0//EN
METHOD:PUBLISH
X-PUBLISHED-TTL:P3D
REFRESH-INTERVAL:P3D
CALSCALE:GREGORIAN
BEGIN:VEVENT
DTSTART:20200101T010000Z
DTEND:20200101T070000Z
X-MICROSOFT-CDO-ALLDAYEVENT:FALSE
SUMMARY:New Years Eve Gala at Maravela's
DESCRIPTION:Deluxe Chef Carved Prime Rib Buffet\, Shrimp Cocktail and Assorted Appetizers\, plus our Sensational Sweets Table
X-ALT-DESC;FMTTYPE=text/html:Deluxe Chef Carved Prime Rib Buffet\, Shrimp Cocktail and Assorted Appetizers\, plus our Sensational Sweets Table
LOCATION:Maravela's Banquets & Catering 37th Annual Event from 7pm to 1am
UID:e.2066.3174
SEQUENCE:3
DTSTAMP:20260424T171927Z
URL:https://dev.chainolakeschamber.com/events/details/new-years-eve-gala-at-maravela-s-3174
END:VEVENT

END:VCALENDAR
