BEGIN:VCALENDAR
VERSION:2.0
PRODID:-//ChamberMaster//Event Calendar 2.0//EN
METHOD:PUBLISH
X-PUBLISHED-TTL:P3D
REFRESH-INTERVAL:P3D
CALSCALE:GREGORIAN
BEGIN:VEVENT
DTSTART:20220405T140000Z
DTEND:20220405T144500Z
X-MICROSOFT-CDO-ALLDAYEVENT:FALSE
SUMMARY:NEW! Who I'm Working With Matters to Me
DESCRIPTION:More than ever\, workers are concerned about who they work with. Top performers want to work with other top performers\, and most of us want to be surrounded by others who make our working lives positive\, productive and enjoyable. We will explore the importance of how to get (and keep) great employees who others want to work with.
X-ALT-DESC;FMTTYPE=text/html:More than ever\, workers are concerned about who they work with. Top performers want to work with other top performers\, and most of us want to be surrounded by others who make our working lives positive\, productive and enjoyable. We will explore the importance of how to get (and keep) great employees who others want to work with.
LOCATION:Live Zoom
UID:e.2066.4208
SEQUENCE:3
DTSTAMP:20260422T204718Z
URL:https://dev.chainolakeschamber.com/events/details/new-who-i-m-working-with-matters-to-me-4208
END:VEVENT

END:VCALENDAR
