BEGIN:VCALENDAR
VERSION:2.0
PRODID:-//ChamberMaster//Event Calendar 2.0//EN
METHOD:PUBLISH
X-PUBLISHED-TTL:P3D
REFRESH-INTERVAL:P3D
CALSCALE:GREGORIAN
BEGIN:VEVENT
DTSTART:20220214T160000Z
DTEND:20220214T170000Z
X-MICROSOFT-CDO-ALLDAYEVENT:FALSE
SUMMARY:NEW! What Bankers Want to See in a Business Plan
DESCRIPTION:This workshop helps potential loan applicants to understand the things that lenders consider necessary for loan approval. More specifically\, the workshop covers the components of a solid business plan\, the documentation required to secure a loan as well as credit and equity requirements. The workshop also reviews various SBA loan programs and eligibility criteria and helps participants to understand the main reasons loans are rejected.
X-ALT-DESC;FMTTYPE=text/html:This workshop helps potential loan applicants to understand the things that lenders consider necessary for loan approval. More specifically\, the workshop covers the components of a solid business plan\, the documentation required to secure a loan as well as credit and equity requirements. The workshop also reviews various SBA loan programs and eligibility criteria and helps participants to understand the main reasons loans are rejected.
LOCATION:Live Zoom
UID:e.2066.4182
SEQUENCE:3
DTSTAMP:20260423T002737Z
URL:https://dev.chainolakeschamber.com/events/details/new-what-bankers-want-to-see-in-a-business-plan-4182
END:VEVENT

END:VCALENDAR
