BEGIN:VCALENDAR
VERSION:2.0
PRODID:-//ChamberMaster//Event Calendar 2.0//EN
METHOD:PUBLISH
X-PUBLISHED-TTL:P3D
REFRESH-INTERVAL:P3D
CALSCALE:GREGORIAN
BEGIN:VEVENT
DTSTART:20220225T150000Z
DTEND:20220225T170000Z
X-MICROSOFT-CDO-ALLDAYEVENT:FALSE
SUMMARY:NEW! The Cloud and Business
DESCRIPTION:The cloud has become a vital component for business as technology becomes embedded in modern life. Every leader needs to understand the cloud and how it operates as well as the potential dangers and pitfalls associated with cloud computing. Knowledgeable monitoring and maintenance can be the difference between the success and failure of the technology's use. With our "The Cloud and Business" workshop\, you will discover the specifics of how the cloud can be a successful business tool.
X-ALT-DESC;FMTTYPE=text/html:The cloud has become a vital component for business as technology becomes embedded in modern life. Every leader needs to understand the cloud and how it operates as well as the potential dangers and pitfalls associated with cloud computing. Knowledgeable monitoring and maintenance can be the difference between the success and failure of the technology&rsquo\;s use. With our &ldquo\;The Cloud and Business&rdquo\; workshop\, you will discover the specifics of how the cloud can be a successful business tool.
LOCATION:Live Zoom
UID:e.2066.4188
SEQUENCE:3
DTSTAMP:20260423T001934Z
URL:https://dev.chainolakeschamber.com/events/details/new-the-cloud-and-business-4188
END:VEVENT

END:VCALENDAR
