BEGIN:VCALENDAR
VERSION:2.0
PRODID:-//ChamberMaster//Event Calendar 2.0//EN
METHOD:PUBLISH
X-PUBLISHED-TTL:P3D
REFRESH-INTERVAL:P3D
CALSCALE:GREGORIAN
BEGIN:VEVENT
DTSTART:20220223T150000Z
DTEND:20220223T170000Z
X-MICROSOFT-CDO-ALLDAYEVENT:FALSE
SUMMARY:NEW! Personal Branding
DESCRIPTION:Personal Branding is identifying your assets\, characteristics\, strengths\, and skills as an individual. Understanding Personal Branding will provide advantages in your participant's personal and professional lives. Branding is a mix of how you present yourself and how others see you. It is important to be aware of how you are viewed. With our Personal Branding workshop\, you will be able to share your vision and passions with others in your company and utilize this knowledge through social media to define and influence how others see you. You are your brand so protect it. Live it.
X-ALT-DESC;FMTTYPE=text/html:Personal Branding is identifying your assets\, characteristics\, strengths\, and skills as an individual. Understanding Personal Branding will provide advantages in your participant&rsquo\;s personal and professional lives. Branding is a mix of how you present yourself and how others see you. It is important to be aware of how you are viewed. With our Personal Branding workshop\, you will be able to share your vision and passions with others in your company and utilize this knowledge through social media to define and influence how others see you. You are your brand so protect it. Live it.
LOCATION:Live Zoom
UID:e.2066.4187
SEQUENCE:3
DTSTAMP:20260423T001728Z
URL:https://dev.chainolakeschamber.com/events/details/new-personal-branding-4187
END:VEVENT

END:VCALENDAR
