BEGIN:VCALENDAR
VERSION:2.0
PRODID:-//ChamberMaster//Event Calendar 2.0//EN
METHOD:PUBLISH
X-PUBLISHED-TTL:P3D
REFRESH-INTERVAL:P3D
CALSCALE:GREGORIAN
BEGIN:VEVENT
DTSTART:20220222T150000Z
DTEND:20220222T170000Z
X-MICROSOFT-CDO-ALLDAYEVENT:FALSE
SUMMARY:NEW! Interpersonal Skills
DESCRIPTION:The Interpersonal Skills workshop will help you work towards being that unforgettable person by providing communication skills\, negotiation techniques\, tips on making an impact\, and advice on networking and starting conversations. They will also identify the skills needed in starting a conversation\, moving a conversation along\, and progressing to higher levels of conversation.
X-ALT-DESC;FMTTYPE=text/html:The Interpersonal Skills workshop will help you work towards being that unforgettable person by providing communication skills\, negotiation techniques\, tips on making an impact\, and advice on networking and starting conversations. They will also identify the skills needed in starting a conversation\, moving a conversation along\, and progressing to higher levels of conversation.
LOCATION:Live Zoom
UID:e.2066.4186
SEQUENCE:3
DTSTAMP:20260423T015256Z
URL:https://dev.chainolakeschamber.com/events/details/new-interpersonal-skills-4186
END:VEVENT

END:VCALENDAR
